BEGIN:VCALENDAR
VERSION:2.0
PRODID:icalendar-ruby
CALSCALE:GREGORIAN
METHOD:PUBLISH
BEGIN:VEVENT
DTSTAMP:20260423T001541Z
UID:287-1611768@forthegoodofthecity.org
DTSTART:20261018T154500Z
DTEND:20261018T164500Z
CLASS:PUBLIC
CREATED:20260422T182046
DESCRIPTION:A traditional worship service led by the choir.  Communion is 
 served the first Sunday of the month.  This service is also live-streamed
  on our website.
LAST-MODIFIED:20260422T182046
LOCATION:Sanctuary
SUMMARY:Worship
URL;VALUE=URI:https://forthegoodofthecity.org/events/worship--287/2026-10-1
 8
END:VEVENT
END:VCALENDAR
