BEGIN:VCALENDAR
VERSION:2.0
PRODID:icalendar-ruby
CALSCALE:GREGORIAN
METHOD:PUBLISH
BEGIN:VEVENT
DTSTAMP:20260422T224345Z
UID:287-1610451@forthegoodofthecity.org
DTSTART:20261011T154500Z
DTEND:20261011T164500Z
CLASS:PUBLIC
CREATED:20260422T152813
DESCRIPTION:A traditional worship service led by the choir.  Communion is 
 served the first Sunday of the month.  This service is also live-streamed
  on our website.
LAST-MODIFIED:20260422T152813
LOCATION:Sanctuary
SUMMARY:Worship
URL;VALUE=URI:https://forthegoodofthecity.org/events/worship--287/2026-10-1
 1
END:VEVENT
END:VCALENDAR
