BEGIN:VCALENDAR
VERSION:2.0
PRODID:icalendar-ruby
CALSCALE:GREGORIAN
METHOD:PUBLISH
BEGIN:VEVENT
DTSTAMP:20260422T162044Z
UID:287-1607815@forthegoodofthecity.org
DTSTART:20260913T154500Z
DTEND:20260913T164500Z
CLASS:PUBLIC
CREATED:20260422T093754
DESCRIPTION:A traditional worship service led by the choir.  Communion is 
 served the first Sunday of the month.  This service is also live-streamed
  on our website.
LAST-MODIFIED:20260422T093754
LOCATION:Sanctuary
SUMMARY:Worship
URL;VALUE=URI:https://forthegoodofthecity.org/events/worship--287/2026-09-1
 3
END:VEVENT
END:VCALENDAR
